BEGIN:VCALENDAR
VERSION:2.0
PRODID:gruene-lu.de
METHOD:PUBLISH
BEGIN:VTIMEZONE
TZID:Europe/Berlin
X-LIC-LOCATION:Europe/Berlin
BEGIN:DAYLIGHT
TZOFFSETFROM:+0100
TZOFFSETTO:+0200
TZNAME:CEST
DTSTART:19700329T020000
RRULE:FREQ=YEARLY;INTERVAL=1;BYDAY=-1SU;BYMONTH=3
END:DAYLIGHT
BEGIN:STANDARD
TZOFFSETFROM:+0200
TZOFFSETTO:+0100
TZNAME:CET
DTSTART:19701025T030000
RRULE:FREQ=YEARLY;INTERVAL=1;BYDAY=-1SU;BYMONTH=10
END:STANDARD
END:VTIMEZONE
BEGIN:VEVENT
UID:127e7151c19bacfb291b2abd87a40fcc@gruene-lu.de
URL;VALUE=URI:https://gruene-lu.de/termine/vorstandssitzung_01/
LOCATION:
SUMMARY:Vorstandssitzung (Online)
DESCRIPTION;ALTREP="data:text/html,%0A%3Cp%3EDie%20Vorstandssitzung%20ist
 %20mitglieder%C3%B6ffentlich.%C2%A0%3C%2Fp%3E%0A%0A%0A%0A%3Cp%3EEinwahlli
 nk%20kann%20bei%20vorstand%40gruene-lu.de%20erfragt%20werden%3C%2Fp%3E%0A
 %0A%0A%0A%3Cp%3E%3C%2Fp%3E%0A":Die Vorstandssitzung ist mitgliederöffent
 lich. \n\nEinwahllink kann bei vorstand@gruene-lu.de erfragt werden
CLASS:PUBLIC
DTSTART;TZID=Europe/Berlin:20260506T190000
DTEND;TZID=Europe/Berlin:20260506T200000
DTSTAMP:20260420T033112
END:VEVENT
END:VCALENDAR